BEGIN:VCALENDAR
VERSION:2.0
PRODID:-//Eco labo photo - ECPv6.15.20//NONSGML v1.0//EN
CALSCALE:GREGORIAN
METHOD:PUBLISH
X-WR-CALNAME:Eco labo photo
X-ORIGINAL-URL:https://ecolabophoto.fr
X-WR-CALDESC:Évènements pour Eco labo photo
REFRESH-INTERVAL;VALUE=DURATION:PT1H
X-Robots-Tag:noindex
X-PUBLISHED-TTL:PT1H
BEGIN:VTIMEZONE
TZID:Europe/Helsinki
BEGIN:DAYLIGHT
TZOFFSETFROM:+0200
TZOFFSETTO:+0300
TZNAME:EEST
DTSTART:20250330T010000
END:DAYLIGHT
BEGIN:STANDARD
TZOFFSETFROM:+0300
TZOFFSETTO:+0200
TZNAME:EET
DTSTART:20251026T010000
END:STANDARD
BEGIN:DAYLIGHT
TZOFFSETFROM:+0200
TZOFFSETTO:+0300
TZNAME:EEST
DTSTART:20260329T010000
END:DAYLIGHT
BEGIN:STANDARD
TZOFFSETFROM:+0300
TZOFFSETTO:+0200
TZNAME:EET
DTSTART:20261025T010000
END:STANDARD
BEGIN:DAYLIGHT
TZOFFSETFROM:+0200
TZOFFSETTO:+0300
TZNAME:EEST
DTSTART:20270328T010000
END:DAYLIGHT
BEGIN:STANDARD
TZOFFSETFROM:+0300
TZOFFSETTO:+0200
TZNAME:EET
DTSTART:20271031T010000
END:STANDARD
END:VTIMEZONE
BEGIN:VEVENT
DTSTART;TZID=Europe/Helsinki:20260506T170000
DTEND;TZID=Europe/Helsinki:20260506T180000
DTSTAMP:20260421T211950
CREATED:20260126T123316Z
LAST-MODIFIED:20260126T123317Z
UID:1544-1778086800-1778090400@ecolabophoto.fr
SUMMARY:La chambre claire _ fabrication de chimies n&b responsables
DESCRIPTION:Une heure pour revoir les bases (et les acides 😉 de la chimie photographique pour pouvoir fabriquer votre propre révélateur avec des composants du quotidien 😃. Nous parlerons pH\, utiliserons une balance\, des produits que vous avez probablement chez vous et vous repartez avec votre révélateur pour un film et une fiche pratique qui reprend les infos pratiques. \n\n\n\nProchaines dates : vendredi 29 mai\, vendredi 29 juin \n\n\n\nApprenti.e chimiste 🧪
URL:https://ecolabophoto.fr/atelier/fabrication-de-chimies-photo-responsables-6mai2026/
LOCATION:Eco labo photo\, 9 rue Saint Alexandre\, Lyon\, Rhône\, 69005\, France
CATEGORIES:chambre claire,labo n&b
ATTACH;FMTTYPE=image/jpeg:https://ecolabophoto.fr/wp-content/uploads/2024/07/05.jpg
END:VEVENT
BEGIN:VEVENT
DTSTART;TZID=Europe/Helsinki:20260507T100000
DTEND;TZID=Europe/Helsinki:20260507T120000
DTSTAMP:20260421T211950
CREATED:20260126T130916Z
LAST-MODIFIED:20260126T130917Z
UID:1556-1778148000-1778155200@ecolabophoto.fr
SUMMARY:Dans la chambre noire _ développement responsable de votre film n&b
DESCRIPTION:Venez avec un film n&b exposé et découvrez comment le développer en cuve manuelle de manière artisanale ! Chimies et démarche écoresponsables 🍃 en gardant une qualité validée par des années de pratique et de recherches. \n\n\n\nAprès cet atelier\, vous repartez avec plein de conseils\, une fiche pratique pour reproduire ce petit miracle chez vous 🤍🖤 et un véritable coup de motivation : l’enthousiasme est contagieux 😉 \n\n\n\nProchains ateliers le samedi de 10h à 12h : 25 avril\, 30 mai. \n\n\n\nEn semaine de 17h à 19h : lundi 30 mars\, jeudi 7 mai \n\n\n\n\nRéservez votre place !
URL:https://ecolabophoto.fr/atelier/developper-son-film-nb-7mai2026/
LOCATION:Eco labo photo\, 9 rue Saint Alexandre\, Lyon\, Rhône\, 69005\, France
CATEGORIES:chambre noire,labo n&b
ATTACH;FMTTYPE=image/webp:https://ecolabophoto.fr/wp-content/uploads/2024/11/film-qui-seche-bd-900-edited-1.webp
END:VEVENT
END:VCALENDAR