BEGIN:VCALENDAR
VERSION:2.0
PRODID:-//Eco labo photo - ECPv6.15.20//NONSGML v1.0//EN
CALSCALE:GREGORIAN
METHOD:PUBLISH
X-WR-CALNAME:Eco labo photo
X-ORIGINAL-URL:https://ecolabophoto.fr
X-WR-CALDESC:Évènements pour Eco labo photo
REFRESH-INTERVAL;VALUE=DURATION:PT1H
X-Robots-Tag:noindex
X-PUBLISHED-TTL:PT1H
BEGIN:VTIMEZONE
TZID:Europe/Helsinki
BEGIN:DAYLIGHT
TZOFFSETFROM:+0200
TZOFFSETTO:+0300
TZNAME:EEST
DTSTART:20250330T010000
END:DAYLIGHT
BEGIN:STANDARD
TZOFFSETFROM:+0300
TZOFFSETTO:+0200
TZNAME:EET
DTSTART:20251026T010000
END:STANDARD
BEGIN:DAYLIGHT
TZOFFSETFROM:+0200
TZOFFSETTO:+0300
TZNAME:EEST
DTSTART:20260329T010000
END:DAYLIGHT
BEGIN:STANDARD
TZOFFSETFROM:+0300
TZOFFSETTO:+0200
TZNAME:EET
DTSTART:20261025T010000
END:STANDARD
BEGIN:DAYLIGHT
TZOFFSETFROM:+0200
TZOFFSETTO:+0300
TZNAME:EEST
DTSTART:20270328T010000
END:DAYLIGHT
BEGIN:STANDARD
TZOFFSETFROM:+0300
TZOFFSETTO:+0200
TZNAME:EET
DTSTART:20271031T010000
END:STANDARD
END:VTIMEZONE
BEGIN:VEVENT
DTSTART;TZID=Europe/Helsinki:20260424T113000
DTEND;TZID=Europe/Helsinki:20260424T123000
DTSTAMP:20260421T182525
CREATED:20260126T123059Z
LAST-MODIFIED:20260126T123100Z
UID:1542-1777030200-1777033800@ecolabophoto.fr
SUMMARY:La chambre claire _ fabrication de chimies n&b responsables
DESCRIPTION:Une heure pour revoir les bases (et les acides 😉 de la chimie photographique pour pouvoir fabriquer votre propre révélateur avec des composants du quotidien 😃. Nous parlerons pH\, utiliserons une balance\, des produits que vous avez probablement chez vous et vous repartez avec votre révélateur pour un film et une fiche pratique qui reprend les infos pratiques. \n\n\n\nProchaines dates de 11h30 à 12h30 : mercredi 6 mai\, vendredi 29 mai. \n\n\n\nApprenti.e chimiste 🧪
URL:https://ecolabophoto.fr/atelier/fabrication-chimie-responsable-24avril2026/
LOCATION:Eco labo photo\, 9 rue Saint Alexandre\, Lyon\, Rhône\, 69005\, France
CATEGORIES:chambre claire,labo n&b
ATTACH;FMTTYPE=image/jpeg:https://ecolabophoto.fr/wp-content/uploads/2024/07/05.jpg
END:VEVENT
BEGIN:VEVENT
DTSTART;TZID=Europe/Helsinki:20260425T100000
DTEND;TZID=Europe/Helsinki:20260425T120000
DTSTAMP:20260421T182525
CREATED:20260126T130609Z
LAST-MODIFIED:20260126T131333Z
UID:1554-1777111200-1777118400@ecolabophoto.fr
SUMMARY:Dans la chambre noire _ le développement de vos films n&b écoresponsable
DESCRIPTION:Venez avec un film n&b exposé et découvrez comment le développer en cuve manuelle de manière artisanale ! Chimies et démarche écoresponsables 🍃 en gardant une qualité validée par des années de pratique et de recherches. \n\n\n\nAprès cet atelier\, vous repartez avec plein de conseils\, une fiche pratique pour reproduire ce petit miracle chez vous 🤍🖤 et un véritable coup de motivation : l’enthousiasme est contagieux 😉 \n\n\n\nProchains ateliers le samedi de 10h à 12h : 30 mai\, 20 juin \n\n\n\nEn semaine de 17h à 19h : jeudi 7 mai \n\n\n\n\nRéservez votre place !
URL:https://ecolabophoto.fr/atelier/developper-votre-film-nb-25avril2026/
LOCATION:Eco labo photo\, 9 rue Saint Alexandre\, Lyon\, Rhône\, 69005\, France
CATEGORIES:chambre noire,labo n&b
ATTACH;FMTTYPE=image/webp:https://ecolabophoto.fr/wp-content/uploads/2024/11/film-qui-seche-bd-900-edited-1.webp
END:VEVENT
BEGIN:VEVENT
DTSTART;TZID=Europe/Helsinki:20260425T140000
DTEND;TZID=Europe/Helsinki:20260425T173000
DTSTAMP:20260421T182525
CREATED:20260126T110735Z
LAST-MODIFIED:20260126T110736Z
UID:1527-1777125600-1777138200@ecolabophoto.fr
SUMMARY:Dans la chambre rouge _ tirage à l'agrandisseur en chimie responsable
DESCRIPTION:Venez avec votre film développé (format 135 ou 120) pour créer votre planche-contact et vous initier à la magie de l’image apparaissant en lumière rouge ! Je parle bien sûr du tirage traditionnel à l’agrandisseur \n\n\n\nAprès avoir fait une planche-contact\, nous parlerons editing\, cadrage et recadrage\, avec ou sans marges afin de réaliser un superbe tirage 18×24 noir et blanc artisanal. \n\n\n\nToujours avec des chimies écoresponsables\, 2 places maximum. \n\n\n\nProchain atelier samedi de 14h à 17h30 : 30 mai. \n\n\n\nEn semaine de 13h30 à 17h : jeudi 7 mai \n\n\n\n\nRéservez votre place !
URL:https://ecolabophoto.fr/atelier/tirage-agrandisseur-chimie-responsable-30mai2026/
LOCATION:Eco labo photo\, 9 rue Saint Alexandre\, Lyon\, Rhône\, 69005\, France
CATEGORIES:chambre rouge,Développement photo,labo n&b
END:VEVENT
END:VCALENDAR